BEGIN:VCALENDAR
VERSION:2.0
PRODID:-//Oregon City Together - ECPv6.15.17.1//NONSGML v1.0//EN
CALSCALE:GREGORIAN
METHOD:PUBLISH
X-WR-CALNAME:Oregon City Together
X-ORIGINAL-URL:http://www.octogether.org
X-WR-CALDESC:Events for Oregon City Together
REFRESH-INTERVAL;VALUE=DURATION:PT1H
X-Robots-Tag:noindex
X-PUBLISHED-TTL:PT1H
BEGIN:VTIMEZONE
TZID:UTC
BEGIN:STANDARD
TZOFFSETFROM:+0000
TZOFFSETTO:+0000
TZNAME:UTC
DTSTART:20230101T000000
END:STANDARD
END:VTIMEZONE
BEGIN:VEVENT
DTSTART;TZID=UTC:20240318T183000
DTEND;TZID=UTC:20240318T200000
DTSTAMP:20260421T200432
CREATED:20240229T190615Z
LAST-MODIFIED:20240229T190615Z
UID:18195-1710786600-1710792000@www.octogether.org
SUMMARY:Webinar: Prevent Underage Drinking
DESCRIPTION:Join us to receive tools and tips on talking to  youth about alcohol and other drugs. Discover effective ways to empower them to make positive choices and recognize when to seek help\, as well as learn how today’s environment encourages  youth and adults to drink alcohol.\nRegister today!\nhttps://clackamascounty.zoom.us/webinar/register/WN_kfmj6WR8SBq1m8LOyb7zOw#/registration
URL:http://www.octogether.org/event/webinar-prevent-underage-drinking/
LOCATION:Zoom
END:VEVENT
END:VCALENDAR