BEGIN:VCALENDAR
VERSION:2.0
PRODID:-//Oregon City Together - ECPv6.15.17.1//NONSGML v1.0//EN
CALSCALE:GREGORIAN
METHOD:PUBLISH
X-WR-CALNAME:Oregon City Together
X-ORIGINAL-URL:http://www.octogether.org
X-WR-CALDESC:Events for Oregon City Together
REFRESH-INTERVAL;VALUE=DURATION:PT1H
X-Robots-Tag:noindex
X-PUBLISHED-TTL:PT1H
BEGIN:VTIMEZONE
TZID:UTC
BEGIN:STANDARD
TZOFFSETFROM:+0000
TZOFFSETTO:+0000
TZNAME:UTC
DTSTART:20230101T000000
END:STANDARD
END:VTIMEZONE
BEGIN:VEVENT
DTSTART;TZID=UTC:20240416T180000
DTEND;TZID=UTC:20240416T200000
DTSTAMP:20260421T181800
CREATED:20240224T015328Z
LAST-MODIFIED:20240307T194159Z
UID:18170-1713290400-1713297600@www.octogether.org
SUMMARY:The 4 R's Youth Mental Health Awareness Film Series - Angst Film Showing  + Campaign Kick-Off
DESCRIPTION:Join us for this important conversation about the stress and anxiety facing our youth today. We will also be kicking off our youth mental health campaign produced by our student leaders at OCSLA. This campaign is generously funded by a Youth Opioid Prevention Grant through Oregon City Police Department. \nSign up HERE.
URL:http://www.octogether.org/event/angst-film-showing-youth-mental-health-awareness-campaign-kick-off/
LOCATION:The End of the Oregon Trail Interpretive Center\, 1726 Washington Street\, Oregon City\, OR\, 97045\, United States
END:VEVENT
END:VCALENDAR