BEGIN:VCALENDAR
VERSION:2.0
PRODID:-//Oregon City Together - ECPv6.15.17.1//NONSGML v1.0//EN
CALSCALE:GREGORIAN
METHOD:PUBLISH
X-ORIGINAL-URL:http://www.octogether.org
X-WR-CALDESC:Events for Oregon City Together
REFRESH-INTERVAL;VALUE=DURATION:PT1H
X-Robots-Tag:noindex
X-PUBLISHED-TTL:PT1H
BEGIN:VTIMEZONE
TZID:UTC
BEGIN:STANDARD
TZOFFSETFROM:+0000
TZOFFSETTO:+0000
TZNAME:UTC
DTSTART:20230101T000000
END:STANDARD
END:VTIMEZONE
BEGIN:VEVENT
DTSTART;TZID=UTC:20240514T163000
DTEND;TZID=UTC:20240514T180000
DTSTAMP:20260421T163729
CREATED:20240503T184428Z
LAST-MODIFIED:20240503T184428Z
UID:18401-1715704200-1715709600@www.octogether.org
SUMMARY:May Monthly Meeting
DESCRIPTION:Join concerned community members at our monthly youth substance abuse prevention meeting. You can join in person or via zoom. All are welcome. \n  \nZoom Info: \n  \n  \nAnne Haynes is inviting you to a scheduled Zoom meeting. \nTopic: May OCT Meeting\nTime: May 14\, 2024 04:30 PM Pacific Time (US and Canada) \nJoin Zoom Meeting\nhttps://ocsd62.zoom.us/j/84837016317 \nMeeting ID: 848 3701 6317 \n— \nOne tap mobile\n+14086380968\,\,84837016317# US (San Jose)\n+16694449171\,\,84837016317# US \n— \nDial by your location\n• +1 408 638 0968 US (San Jose)\n• +1 669 444 9171 US\n• +1 669 900 6833 US (San Jose)\n• +1 719 359 4580 US\n• +1 253 205 0468 US\n• +1 253 215 8782 US (Tacoma)\n• +1 346 248 7799 US (Houston)\n• +1 309 205 3325 US\n• +1 312 626 6799 US (Chicago)\n• +1 360 209 5623 US\n• +1 386 347 5053 US\n• +1 507 473 4847 US\n• +1 564 217 2000 US\n• +1 646 876 9923 US (New York)\n• +1 646 931 3860 US\n• +1 689 278 1000 US\n• +1 301 715 8592 US (Washington DC)\n• +1 305 224 1968 US \nMeeting ID: 848 3701 6317 \nFind your local number: https://ocsd62.zoom.us/u/kwAzkJOm6 \n  \n  \nOne tap mobile \n+12532050468\,\,85801192561# US \n+12532158782\,\,85801192561# US (Tacoma) \n  \n— \n  \nDial by your location \n\n+1 253 205 0468 US\n+1 253 215 8782 US (Tacoma)\n+1 346 248 7799 US (Houston)\n+1 408 638 0968 US (San Jose)\n+1 669 444 9171 US\n+1 669 900 6833 US (San Jose)\n+1 719 359 4580 US\n+1 360 209 5623 US\n+1 386 347 5053 US\n+1 507 473 4847 US\n+1 564 217 2000 US\n+1 646 876 9923 US (New York)\n+1 646 931 3860 US\n+1 689 278 1000 US\n+1 301 715 8592 US (Washington DC)\n+1 305 224 1968 US\n+1 309 205 3325 US\n+1 312 626 6799 US (Chicago)\n\n  \nMeeting ID: 858 0119 2561 \n  \nFind your local number: https://ocsd62.zoom.us/u/kd7qQyoHER \n 
URL:http://www.octogether.org/event/march-monthly-meeting-2-2/
LOCATION:Gardiner Middle School\, 205 Williams St\, Oregon City\, Oregon\, 97045
END:VEVENT
BEGIN:VEVENT
DTSTART;TZID=UTC:20240514T173000
DTEND;TZID=UTC:20240514T193000
DTSTAMP:20260421T163729
CREATED:20240502T142242Z
LAST-MODIFIED:20240502T155252Z
UID:18387-1715707800-1715715000@www.octogether.org
SUMMARY:QPR Training-Suicide Prevention
DESCRIPTION:Come join our FREE QPR Training session where you’ll learn how to save a life through suicide prevention techniques. Click the graphic to register! \nFor more information: maureen.palaoro@orecity.k12.or.us
URL:http://www.octogether.org/event/qpr-training-suicide-prevention/
LOCATION:Gaffney Lane Elementary\, 13521 Gaffney Ln\, Oregon City\, 97045\, United States
ORGANIZER;CN="Maureen Palaoro":MAILTO:maureen.palaoro@orecity.k12.or.us
END:VEVENT
END:VCALENDAR