BEGIN:VCALENDAR
VERSION:2.0
PRODID:-//Oregon City Together - ECPv6.15.17.1//NONSGML v1.0//EN
CALSCALE:GREGORIAN
METHOD:PUBLISH
X-WR-CALNAME:Oregon City Together
X-ORIGINAL-URL:http://www.octogether.org
X-WR-CALDESC:Events for Oregon City Together
REFRESH-INTERVAL;VALUE=DURATION:PT1H
X-Robots-Tag:noindex
X-PUBLISHED-TTL:PT1H
BEGIN:VTIMEZONE
TZID:UTC
BEGIN:STANDARD
TZOFFSETFROM:+0000
TZOFFSETTO:+0000
TZNAME:UTC
DTSTART:20230101T000000
END:STANDARD
END:VTIMEZONE
BEGIN:VEVENT
DTSTART;TZID=UTC:20240618T173000
DTEND;TZID=UTC:20240618T193000
DTSTAMP:20260421T144516
CREATED:20240502T142311Z
LAST-MODIFIED:20240502T155236Z
UID:18393-1718731800-1718739000@www.octogether.org
SUMMARY:QPR Training-Suicide Prevention (copy)
DESCRIPTION:Come join our FREE QPR Training session where you’ll learn how to save a life through suicide prevention techniques. Click the graphic to register! \nFor more information: maureen.palaoro@orecity.k12.or.us
URL:http://www.octogether.org/event/qpr-training-suicide-prevention-2/
LOCATION:Gaffney Lane Elementary\, 13521 Gaffney Ln\, Oregon City\, 97045\, United States
ORGANIZER;CN="Maureen Palaoro":MAILTO:maureen.palaoro@orecity.k12.or.us
END:VEVENT
END:VCALENDAR