BEGIN:VCALENDAR
VERSION:2.0
PRODID:-//Oregon City Together - ECPv6.15.17.1//NONSGML v1.0//EN
CALSCALE:GREGORIAN
METHOD:PUBLISH
X-WR-CALNAME:Oregon City Together
X-ORIGINAL-URL:http://www.octogether.org
X-WR-CALDESC:Events for Oregon City Together
REFRESH-INTERVAL;VALUE=DURATION:PT1H
X-Robots-Tag:noindex
X-PUBLISHED-TTL:PT1H
BEGIN:VTIMEZONE
TZID:UTC
BEGIN:STANDARD
TZOFFSETFROM:+0000
TZOFFSETTO:+0000
TZNAME:UTC
DTSTART:20230101T000000
END:STANDARD
END:VTIMEZONE
BEGIN:VEVENT
DTSTART;TZID=UTC:20240806T173000
DTEND;TZID=UTC:20240806T200000
DTSTAMP:20260421T111452
CREATED:20240731T170043Z
LAST-MODIFIED:20240731T170043Z
UID:18455-1722965400-1722974400@www.octogether.org
SUMMARY:National Night Out 2024
DESCRIPTION:Join us for this fun summer event! OCT will have our ‘Wheel of Fortune’ and prizes!
URL:http://www.octogether.org/event/national-night-out-2024/
LOCATION:The End of the Oregon Trail Interpretive Center\, 1726 Washington Street\, Oregon City\, OR\, 97045\, United States
END:VEVENT
END:VCALENDAR