BEGIN:VCALENDAR
VERSION:2.0
PRODID:-//Oregon City Together - ECPv6.15.17.1//NONSGML v1.0//EN
CALSCALE:GREGORIAN
METHOD:PUBLISH
X-ORIGINAL-URL:http://www.octogether.org
X-WR-CALDESC:Events for Oregon City Together
REFRESH-INTERVAL;VALUE=DURATION:PT1H
X-Robots-Tag:noindex
X-PUBLISHED-TTL:PT1H
BEGIN:VTIMEZONE
TZID:UTC
BEGIN:STANDARD
TZOFFSETFROM:+0000
TZOFFSETTO:+0000
TZNAME:UTC
DTSTART:20230101T000000
END:STANDARD
END:VTIMEZONE
BEGIN:VEVENT
DTSTART;TZID=UTC:20240822T163000
DTEND;TZID=UTC:20240822T193000
DTSTAMP:20260421T112036
CREATED:20240731T165532Z
LAST-MODIFIED:20240731T165546Z
UID:18445-1724344200-1724355000@www.octogether.org
SUMMARY:OCSD Family Focus Forum
DESCRIPTION:Join OCT at the OCSD Family Focus Forum ‘Welcome Back’ event at Jennings Lodge Campus\, 4:30-7:30\, on 8/22/24! You’ll learn about community resources\, school supplies\, play games\, eat yummy food\, and more! OCT will have our ‘Wheel of Fortune’ with prizes!
URL:http://www.octogether.org/event/ocsd-family-focus-forum/
LOCATION:Jennings Lodge Campus\, 18521 S.E. River Road\, Milwaukie\, OR\, 97267\, United States
END:VEVENT
END:VCALENDAR