BEGIN:VCALENDAR
VERSION:2.0
PRODID:-//Oregon City Together - ECPv6.15.17.1//NONSGML v1.0//EN
CALSCALE:GREGORIAN
METHOD:PUBLISH
X-ORIGINAL-URL:http://www.octogether.org
X-WR-CALDESC:Events for Oregon City Together
REFRESH-INTERVAL;VALUE=DURATION:PT1H
X-Robots-Tag:noindex
X-PUBLISHED-TTL:PT1H
BEGIN:VTIMEZONE
TZID:UTC
BEGIN:STANDARD
TZOFFSETFROM:+0000
TZOFFSETTO:+0000
TZNAME:UTC
DTSTART:20240101T000000
END:STANDARD
END:VTIMEZONE
BEGIN:VEVENT
DTSTART;TZID=UTC:20250520T173000
DTEND;TZID=UTC:20250520T190000
DTSTAMP:20260420T190615
CREATED:20250303T160200Z
LAST-MODIFIED:20250303T160419Z
UID:18720-1747762200-1747767600@www.octogether.org
SUMMARY:May Monthly Meeting
DESCRIPTION:Join concerned community members at our monthly youth substance abuse prevention meeting.  You can join in person or via Zoom. \n  \nAnne Haynes is inviting you to a scheduled Zoom meeting. \nTopic: OCT  May Monthly Meeting\nTime: May 20\, 2025 05:30 PM Pacific Time (US and Canada)\nJoin Zoom Meeting\nhttps://ocsd62.zoom.us/j/83876191813 \nMeeting ID: 838 7619 1813 \n— \nOne tap mobile\n+17193594580\,\,83876191813# US\n+12532050468\,\,83876191813# US \n— \nDial by your location\n• +1 719 359 4580 US\n• +1 253 205 0468 US\n• +1 253 215 8782 US (Tacoma)\n• +1 346 248 7799 US (Houston)\n• +1 408 638 0968 US (San Jose)\n• +1 669 444 9171 US\n• +1 669 900 6833 US (San Jose)\n• +1 360 209 5623 US\n• +1 386 347 5053 US\n• +1 507 473 4847 US\n• +1 564 217 2000 US\n• +1 646 876 9923 US (New York)\n• +1 646 931 3860 US\n• +1 689 278 1000 US\n• +1 301 715 8592 US (Washington DC)\n• +1 305 224 1968 US\n• +1 309 205 3325 US\n• +1 312 626 6799 US (Chicago) \nMeeting ID: 838 7619 1813 \nFind your local number: https://ocsd62.zoom.us/u/kdiYyeUv1H \n 
URL:http://www.octogether.org/event/may-monthly-meeting-2/
LOCATION:Gardiner Middle School\, 205 Williams St\, Oregon City\, Oregon\, 97045
END:VEVENT
END:VCALENDAR