BEGIN:VCALENDAR
VERSION:2.0
PRODID:-//Oregon City Together - ECPv6.15.17.1//NONSGML v1.0//EN
CALSCALE:GREGORIAN
METHOD:PUBLISH
X-ORIGINAL-URL:http://www.octogether.org
X-WR-CALDESC:Events for Oregon City Together
REFRESH-INTERVAL;VALUE=DURATION:PT1H
X-Robots-Tag:noindex
X-PUBLISHED-TTL:PT1H
BEGIN:VTIMEZONE
TZID:UTC
BEGIN:STANDARD
TZOFFSETFROM:+0000
TZOFFSETTO:+0000
TZNAME:UTC
DTSTART:20240101T000000
END:STANDARD
END:VTIMEZONE
BEGIN:VEVENT
DTSTART;TZID=UTC:20250523T110000
DTEND;TZID=UTC:20250523T130000
DTSTAMP:20260420T190718
CREATED:20250517T215500Z
LAST-MODIFIED:20250517T215500Z
UID:18769-1747998000-1748005200@www.octogether.org
SUMMARY:Youth Mental Health DIY Resilience Wall Event
DESCRIPTION:OCHS students will be encouraged during lunch to write on our DIY Resilience Banner…’I build my resilience by:______________’.
URL:http://www.octogether.org/event/youth-mental-health-diy-resilience-wall-event/
LOCATION:Oregon City High School\, 19761 Beavercreek Rd\, Oregon City\, OR\, 97045
END:VEVENT
END:VCALENDAR