BEGIN:VCALENDAR
VERSION:2.0
PRODID:-//Oregon City Together - ECPv6.15.17.1//NONSGML v1.0//EN
CALSCALE:GREGORIAN
METHOD:PUBLISH
X-WR-CALNAME:Oregon City Together
X-ORIGINAL-URL:http://www.octogether.org
X-WR-CALDESC:Events for Oregon City Together
REFRESH-INTERVAL;VALUE=DURATION:PT1H
X-Robots-Tag:noindex
X-PUBLISHED-TTL:PT1H
BEGIN:VTIMEZONE
TZID:UTC
BEGIN:STANDARD
TZOFFSETFROM:+0000
TZOFFSETTO:+0000
TZNAME:UTC
DTSTART:20240101T000000
END:STANDARD
END:VTIMEZONE
BEGIN:VEVENT
DTSTART;TZID=UTC:20250805T173000
DTEND;TZID=UTC:20250805T200000
DTSTAMP:20260420T140305
CREATED:20250508T204740Z
LAST-MODIFIED:20250803T224345Z
UID:18766-1754415000-1754424000@www.octogether.org
SUMMARY:National Night Out
DESCRIPTION:join Oregon City Together and the Oregon City Police Department as we celebrate America’s annual Night Out Against Crime. \n National Night Out is a great event to promote neighborhood camaraderie and police-community partnerships in the pursuit of a safer nation. \nWe’ll be there with our Wheel of Wellness and lots of fun prizes!
URL:http://www.octogether.org/event/national-night-out/
LOCATION:The End of the Oregon Trail Interpretive Center\, 1726 Washington Street\, Oregon City\, OR\, 97045\, United States
END:VEVENT
END:VCALENDAR