BEGIN:VCALENDAR
VERSION:2.0
PRODID:-//Oregon City Together - ECPv6.15.17.1//NONSGML v1.0//EN
CALSCALE:GREGORIAN
METHOD:PUBLISH
X-WR-CALNAME:Oregon City Together
X-ORIGINAL-URL:http://www.octogether.org
X-WR-CALDESC:Events for Oregon City Together
REFRESH-INTERVAL;VALUE=DURATION:PT1H
X-Robots-Tag:noindex
X-PUBLISHED-TTL:PT1H
BEGIN:VTIMEZONE
TZID:UTC
BEGIN:STANDARD
TZOFFSETFROM:+0000
TZOFFSETTO:+0000
TZNAME:UTC
DTSTART:20240101T000000
END:STANDARD
END:VTIMEZONE
BEGIN:VEVENT
DTSTART;TZID=UTC:20250820T190000
DTEND;TZID=UTC:20250820T203000
DTSTAMP:20260420T140220
CREATED:20250803T220800Z
LAST-MODIFIED:20250803T220800Z
UID:18930-1755716400-1755721800@www.octogether.org
SUMMARY:Oregon City Commission Meeting
DESCRIPTION:At this meeting\, Oregon City Together will present the outcomes from our Youth Mental Health Awareness Project. Join us and show your support for primary prevention in OC!
URL:http://www.octogether.org/event/oregon-city-commission-meeting/
LOCATION:Robert Libke Public Building\, 1234 Linn\, Oregon City\, OR\, 97045\, United States
END:VEVENT
END:VCALENDAR