BEGIN:VCALENDAR
VERSION:2.0
PRODID:-//Oregon City Together - ECPv6.15.17.1//NONSGML v1.0//EN
CALSCALE:GREGORIAN
METHOD:PUBLISH
X-ORIGINAL-URL:http://www.octogether.org
X-WR-CALDESC:Events for Oregon City Together
REFRESH-INTERVAL;VALUE=DURATION:PT1H
X-Robots-Tag:noindex
X-PUBLISHED-TTL:PT1H
BEGIN:VTIMEZONE
TZID:UTC
BEGIN:STANDARD
TZOFFSETFROM:+0000
TZOFFSETTO:+0000
TZNAME:UTC
DTSTART:20240101T000000
END:STANDARD
END:VTIMEZONE
BEGIN:VEVENT
DTSTART;TZID=UTC:20250916T173000
DTEND;TZID=UTC:20250916T190000
DTSTAMP:20260420T123245
CREATED:20250909T152143Z
LAST-MODIFIED:20250909T154948Z
UID:18952-1758043800-1758049200@www.octogether.org
SUMMARY:September Monthly Meeting
DESCRIPTION:Join us for our regular monthly coalition meeting! Exciting things are happening in primary prevention and we can’t wait to share it all with you. There will be ways you can get involved\, too! \nWe meet in person at Gardiner Middle School or via google meet. \nOCT Monthly Meeting\nTuesday\, September 16 · 5:30 – 7:00pm\nTime zone: America/Los_Angeles\nGoogle Meet joining info\nVideo call link: https://meet.google.com/uob-uueq-owg\nOr dial: ‪(US) +1 715-600-0040‬ PIN: ‪979 319 619‬#
URL:http://www.octogether.org/event/august-monthly-meeting-2/
LOCATION:Gardiner Middle School\, 205 Williams St\, Oregon City\, Oregon\, 97045
END:VEVENT
END:VCALENDAR