BEGIN:VCALENDAR
VERSION:2.0
PRODID:-//Oregon City Together - ECPv6.15.17.1//NONSGML v1.0//EN
CALSCALE:GREGORIAN
METHOD:PUBLISH
X-ORIGINAL-URL:http://www.octogether.org
X-WR-CALDESC:Events for Oregon City Together
REFRESH-INTERVAL;VALUE=DURATION:PT1H
X-Robots-Tag:noindex
X-PUBLISHED-TTL:PT1H
BEGIN:VTIMEZONE
TZID:UTC
BEGIN:STANDARD
TZOFFSETFROM:+0000
TZOFFSETTO:+0000
TZNAME:UTC
DTSTART:20240101T000000
END:STANDARD
END:VTIMEZONE
BEGIN:VEVENT
DTSTART;TZID=UTC:20251216T160000
DTEND;TZID=UTC:20251217T180000
DTSTAMP:20260420T073635
CREATED:20251205T174524Z
LAST-MODIFIED:20251205T174843Z
UID:19042-1765900800-1765994400@www.octogether.org
SUMMARY:December Holiday Gathering
DESCRIPTION:Let’s get together for the holidays! We’ll be at Corner 14 Foodcarts Spirits & Brew (inside) from 4-6 pm! Happy Holidays!
URL:http://www.octogether.org/event/december-holiday-gathering/
LOCATION:Corner 14 Foodcarts Spirits & Brew\, 508 14th St\, Oregon City\, OR\, United States
END:VEVENT
END:VCALENDAR