BEGIN:VCALENDAR
VERSION:2.0
PRODID:-//Oregon City Together - ECPv6.15.17.1//NONSGML v1.0//EN
CALSCALE:GREGORIAN
METHOD:PUBLISH
X-WR-CALNAME:Oregon City Together
X-ORIGINAL-URL:http://www.octogether.org
X-WR-CALDESC:Events for Oregon City Together
REFRESH-INTERVAL;VALUE=DURATION:PT1H
X-Robots-Tag:noindex
X-PUBLISHED-TTL:PT1H
BEGIN:VTIMEZONE
TZID:UTC
BEGIN:STANDARD
TZOFFSETFROM:+0000
TZOFFSETTO:+0000
TZNAME:UTC
DTSTART:20250101T000000
END:STANDARD
END:VTIMEZONE
BEGIN:VEVENT
DTSTART;TZID=UTC:20260120T173000
DTEND;TZID=UTC:20260120T190000
DTSTAMP:20260420T053640
CREATED:20260120T001559Z
LAST-MODIFIED:20260120T001559Z
UID:19049-1768930200-1768935600@www.octogether.org
SUMMARY:January Monthly Meeting
DESCRIPTION:Join us for our regular monthly coalition meeting. Come on out and meeting our brand new Prevention Specialist\, Michelle Cvitanich\, and learn about what we’ve been up to and how you can help our youth thrive! In person or via Zoom.\nAnne Haynes is inviting you to a scheduled Zoom meeting. \nTopic: OCT Monthly Meeting\nTime: Jan 20\, 2026 05:30 PM Pacific Time (US and Canada)\n        Every month on the Third Tue\, 37 occurrence(s)\nPlease download and import the following iCalendar (.ics) files to your calendar system.\nMonthly: https://ocsd62.zoom.us/meeting/tZclcO-ppzoiG9cesbTYVO24xzDmjLttO3QJ/ics?icsToken=DI58d9oDeDQvsKAtfwAALAAAANWMPk9pAOt8VBkGlsW0kfRxNVfpurynz8bFbnFZNKR5maTEH0Hii856iH_z-0xU4WraZqGOAh8u4_HbmzAwMDAwMQ&meetingMasterEventId=KLU137hyTvia4NzgixM_og\nJoin Zoom Meeting\nhttps://ocsd62.zoom.us/j/83876191813 \nMeeting ID: 838 7619 1813 \n— \nOne tap mobile\n+17193594580\,\,83876191813# US\n+12532050468\,\,83876191813# US \nJoin instructions\nhttps://ocsd62.zoom.us/meetings/83876191813/invitations?signature=32GQA93Eu1hcAoNDzEnZLPF_FnVfJmocUT4odqDcwfg
URL:http://www.octogether.org/event/january-monthly-meeting-2/
LOCATION:Gardiner Middle School\, 205 Williams St\, Oregon City\, Oregon\, 97045
END:VEVENT
END:VCALENDAR