BEGIN:VCALENDAR
VERSION:2.0
PRODID:-//Oregon City Together - ECPv6.15.17.1//NONSGML v1.0//EN
CALSCALE:GREGORIAN
METHOD:PUBLISH
X-WR-CALNAME:Oregon City Together
X-ORIGINAL-URL:http://www.octogether.org
X-WR-CALDESC:Events for Oregon City Together
REFRESH-INTERVAL;VALUE=DURATION:PT1H
X-Robots-Tag:noindex
X-PUBLISHED-TTL:PT1H
BEGIN:VTIMEZONE
TZID:UTC
BEGIN:STANDARD
TZOFFSETFROM:+0000
TZOFFSETTO:+0000
TZNAME:UTC
DTSTART:20230101T000000
END:STANDARD
END:VTIMEZONE
BEGIN:VEVENT
DTSTART;TZID=UTC:20241009T120000
DTEND;TZID=UTC:20241009T130000
DTSTAMP:20260421T054159
CREATED:20241004T222045Z
LAST-MODIFIED:20241004T222045Z
UID:18526-1728475200-1728478800@www.octogether.org
SUMMARY:Fentanyl Awareness Workgroup Meeting
DESCRIPTION:Join OCT and partners in our efforts to bring more awareness and education to our community about the dangers of fentanyl. \nAnne Haynes is inviting you to a scheduled Zoom meeting. \nTopic: Fentanyl Awareness Workgroup\nTime: Oct 9\, 2024 12:00 PM Pacific Time (US and Canada) \nJoin Zoom Meeting\nhttps://ocsd62.zoom.us/j/87448832669 \nMeeting ID: 874 4883 2669 \n— \nOne tap mobile\n+16699006833\,\,87448832669# US (San Jose)\n+17193594580\,\,87448832669# US \n— \nDial by your location\n• +1 669 900 6833 US (San Jose)\n• +1 719 359 4580 US\n• +1 253 205 0468 US\n• +1 253 215 8782 US (Tacoma)\n• +1 346 248 7799 US (Houston)\n• +1 408 638 0968 US (San Jose)\n• +1 669 444 9171 US\n• +1 301 715 8592 US (Washington DC)\n• +1 305 224 1968 US\n• +1 309 205 3325 US\n• +1 312 626 6799 US (Chicago)\n• +1 360 209 5623 US\n• +1 386 347 5053 US\n• +1 507 473 4847 US\n• +1 564 217 2000 US\n• +1 646 876 9923 US (New York)\n• +1 646 931 3860 US\n• +1 689 278 1000 US \nMeeting ID: 874 4883 2669 \nFind your local number: https://ocsd62.zoom.us/u/kddYcbQXNs \n 
URL:http://www.octogether.org/event/fentanyl-awareness-workgroup-meeting/
LOCATION:Zoom
END:VEVENT
BEGIN:VEVENT
DTSTART;TZID=UTC:20241015T180000
DTEND;TZID=UTC:20241015T193000
DTSTAMP:20260421T054159
CREATED:20240725T171508Z
LAST-MODIFIED:20240923T193659Z
UID:18438-1729015200-1729020600@www.octogether.org
SUMMARY:October Monthly Meeting
DESCRIPTION:Join concerned community members at our monthly youth substance abuse prevention meeting.  You can join in person or via Zoom. \n  \nAnne Haynes is inviting you to a scheduled Zoom meeting. \nTopic: OCT OCTOBER MONTHLY MEETING\nTime: Oct 15\, 2024 06:00 PM Pacific Time (US and Canada) \nJoin Zoom Meeting\nhttps://ocsd62.zoom.us/j/85620969832 \nMeeting ID: 856 2096 9832 \n— \nOne tap mobile\n+12532158782\,\,85620969832# US (Tacoma)\n+13462487799\,\,85620969832# US (Houston) \n— \nDial by your location\n• +1 253 215 8782 US (Tacoma)\n• +1 346 248 7799 US (Houston)\n• +1 408 638 0968 US (San Jose)\n• +1 669 444 9171 US\n• +1 669 900 6833 US (San Jose)\n• +1 719 359 4580 US\n• +1 253 205 0468 US\n• +1 646 931 3860 US\n• +1 689 278 1000 US\n• +1 301 715 8592 US (Washington DC)\n• +1 305 224 1968 US\n• +1 309 205 3325 US\n• +1 312 626 6799 US (Chicago)\n• +1 360 209 5623 US\n• +1 386 347 5053 US\n• +1 507 473 4847 US\n• +1 564 217 2000 US\n• +1 646 876 9923 US (New York) \nMeeting ID: 856 2096 9832 \nFind your local number: https://ocsd62.zoom.us/u/k3NGaJGlt \n 
URL:http://www.octogether.org/event/march-monthly-meeting-2-2-2-2-2-2/
LOCATION:Gardiner Middle School\, 205 Williams St\, Oregon City\, Oregon\, 97045
END:VEVENT
END:VCALENDAR