BEGIN:VCALENDAR
VERSION:2.0
PRODID:-//Oregon City Together - ECPv6.15.17.1//NONSGML v1.0//EN
CALSCALE:GREGORIAN
METHOD:PUBLISH
X-WR-CALNAME:Oregon City Together
X-ORIGINAL-URL:http://www.octogether.org
X-WR-CALDESC:Events for Oregon City Together
REFRESH-INTERVAL;VALUE=DURATION:PT1H
X-Robots-Tag:noindex
X-PUBLISHED-TTL:PT1H
BEGIN:VTIMEZONE
TZID:UTC
BEGIN:STANDARD
TZOFFSETFROM:+0000
TZOFFSETTO:+0000
TZNAME:UTC
DTSTART:20240101T000000
END:STANDARD
END:VTIMEZONE
BEGIN:VEVENT
DTSTART;TZID=UTC:20250407T080000
DTEND;TZID=UTC:20250407T170000
DTSTAMP:20260420T190338
CREATED:20241227T184358Z
LAST-MODIFIED:20250103T172947Z
UID:18611-1744012800-1744045200@www.octogether.org
SUMMARY:Know Your Neuro - Peer Influence & Refusal Skills
DESCRIPTION:Click the logo to learn more about this health topic! \n6th Grade-Gardiner Middle School & Tumwata Middle School
URL:http://www.octogether.org/event/know-your-neuro-peer-influence-refusal-skills/
LOCATION:Oregon
CATEGORIES:Gardiner Middle School,Tumwata Middle School
END:VEVENT
BEGIN:VEVENT
DTSTART;TZID=UTC:20250407T080000
DTEND;TZID=UTC:20250407T170000
DTSTAMP:20260420T190338
CREATED:20241227T184551Z
LAST-MODIFIED:20250103T173017Z
UID:18614-1744012800-1744045200@www.octogether.org
SUMMARY:Know Your Neuro - Healthy Relationships
DESCRIPTION:Click the logo to learn more about this health topic! \n6th Grade-Gardiner & Tumwata Middle Schools
URL:http://www.octogether.org/event/know-your-neuro-healthy-relationship/
LOCATION:Oregon
CATEGORIES:Gardiner Middle School,Tumwata Middle School
END:VEVENT
BEGIN:VEVENT
DTSTART;TZID=UTC:20250410T080000
DTEND;TZID=UTC:20250410T170000
DTSTAMP:20260420T190338
CREATED:20241227T184836Z
LAST-MODIFIED:20250103T173058Z
UID:18619-1744272000-1744304400@www.octogether.org
SUMMARY:Know Your Neuro - Tech Overuse
DESCRIPTION:Click the logo to learn more about this health topic! \n6th Grade-Gardiner & Tumwta Middle Schools
URL:http://www.octogether.org/event/know-your-neuro-tech-overuse/
LOCATION:Oregon
CATEGORIES:Gardiner Middle School,Tumwata Middle School
END:VEVENT
BEGIN:VEVENT
DTSTART;TZID=UTC:20250415T173000
DTEND;TZID=UTC:20250415T190000
DTSTAMP:20260420T190338
CREATED:20250303T160051Z
LAST-MODIFIED:20250303T160437Z
UID:18717-1744738200-1744743600@www.octogether.org
SUMMARY:April Monthly Meeting
DESCRIPTION:Join concerned community members at our monthly youth substance abuse prevention meeting.  You can join in person or via Zoom. \n  \nAnne Haynes is inviting you to a scheduled Zoom meeting. \nTopic: OCT April Monthly Meeting\nTime: April 15\, 2025 05:30 PM Pacific Time (US and Canada)\nJoin Zoom Meeting\nhttps://ocsd62.zoom.us/j/83876191813 \nMeeting ID: 838 7619 1813 \n— \nOne tap mobile\n+17193594580\,\,83876191813# US\n+12532050468\,\,83876191813# US \n— \nDial by your location\n• +1 719 359 4580 US\n• +1 253 205 0468 US\n• +1 253 215 8782 US (Tacoma)\n• +1 346 248 7799 US (Houston)\n• +1 408 638 0968 US (San Jose)\n• +1 669 444 9171 US\n• +1 669 900 6833 US (San Jose)\n• +1 360 209 5623 US\n• +1 386 347 5053 US\n• +1 507 473 4847 US\n• +1 564 217 2000 US\n• +1 646 876 9923 US (New York)\n• +1 646 931 3860 US\n• +1 689 278 1000 US\n• +1 301 715 8592 US (Washington DC)\n• +1 305 224 1968 US\n• +1 309 205 3325 US\n• +1 312 626 6799 US (Chicago) \nMeeting ID: 838 7619 1813 \nFind your local number: https://ocsd62.zoom.us/u/kdiYyeUv1H \n 
URL:http://www.octogether.org/event/april-monthly-meeting/
LOCATION:Gardiner Middle School\, 205 Williams St\, Oregon City\, Oregon\, 97045
END:VEVENT
BEGIN:VEVENT
DTSTART;TZID=UTC:20250424T170000
DTEND;TZID=UTC:20250424T193000
DTSTAMP:20260420T190338
CREATED:20250326T204600Z
LAST-MODIFIED:20250326T224334Z
UID:18732-1745514000-1745523000@www.octogether.org
SUMMARY:Thriving Together
DESCRIPTION:FREE Community Event \nJoin us for a special screening of the acclaimed documentary Angst\, which explores the impact of anxiety on youth and offers hope and solutions for those affected. \nAfter the film\, hear from Dr. Crystal Collier\, expert in adolescent mental health\, as she shares practical coping skills to help teens manage anxiety and depression. \nLet’s come together to support youth mental health in our community \nDinner at 5:00 pm\, Program begins at 5:30 pm. \nChildcare available for attendees. \nAvailable on zoom also. \nClick the flyer to reserve your spot! \n \n 
URL:http://www.octogether.org/event/thriving-together/
LOCATION:Alliance Charter Academy\, 16075 Front Ave\, Oregon City\, OR\, 97045\, United States
ORGANIZER;CN="Oregon City Together":MAILTO:anne.haynes@orecity.k12.or.us
END:VEVENT
END:VCALENDAR