BEGIN:VCALENDAR
VERSION:2.0
PRODID:-//Oregon City Together - ECPv6.15.17.1//NONSGML v1.0//EN
CALSCALE:GREGORIAN
METHOD:PUBLISH
X-WR-CALNAME:Oregon City Together
X-ORIGINAL-URL:http://www.octogether.org
X-WR-CALDESC:Events for Oregon City Together
REFRESH-INTERVAL;VALUE=DURATION:PT1H
X-Robots-Tag:noindex
X-PUBLISHED-TTL:PT1H
BEGIN:VTIMEZONE
TZID:UTC
BEGIN:STANDARD
TZOFFSETFROM:+0000
TZOFFSETTO:+0000
TZNAME:UTC
DTSTART:20240101T000000
END:STANDARD
END:VTIMEZONE
BEGIN:VEVENT
DTSTART;TZID=UTC:20251002T163000
DTEND;TZID=UTC:20251002T180000
DTSTAMP:20260420T090844
CREATED:20250911T162920Z
LAST-MODIFIED:20250911T162920Z
UID:18960-1759422600-1759428000@www.octogether.org
SUMMARY:Student Wellness Roundtable
DESCRIPTION:Oregon City Together (OCT)\, in conjunction with the school district and the city of Oregon City\, is holding a Student Roundtable. We want to hear from you about several topics related to youth mental health\, substance use\, and wellness. We have three projects coming up this year where student’s voices are needed! \n\nPlease click the graphic to learn more and to sign up to attend! Snacks will be provided and we’ll hold random drawings for prizes.We will  meet  in  Room  E-104.
URL:http://www.octogether.org/event/student-wellness-roundtable/
LOCATION:Oregon City High School\, 19761 Beavercreek Rd\, Oregon City\, OR\, 97045
END:VEVENT
BEGIN:VEVENT
DTSTART;TZID=UTC:20251013T080000
DTEND;TZID=UTC:20251013T133000
DTSTAMP:20260420T090844
CREATED:20250923T212723Z
LAST-MODIFIED:20250923T212926Z
UID:18986-1760342400-1760362200@www.octogether.org
SUMMARY:Community Board Orientation
DESCRIPTION:Join us for our Communities That Care Community Board Orientation \nThis orientation is a 10-hour experience (spread over two days) that blends information\, hands-on activities\, and networking opportunities. It is designed for community members who want to: \n\nJoin a workgroup and play an active role in CTC\nGain a clear overview of the CTC process\nHelp prevent high-risk behaviors among youth in our community\n\nFor Community Members: If you are interested in taking an active role\, this training will give you the knowledge and connections you need to get started. \nPlease RSVP to anne.haynes@orecity.k12.or.us by October 1st \nThank you all for your leadership\, flexibility\, and commitment to building a stronger\, healthier community for our youth. We look forward to launching this next phase together.
URL:http://www.octogether.org/event/community-board-orientation/
LOCATION:Jennings Lodge Campus\, 18521 S.E. River Road\, Milwaukie\, OR\, 97267\, United States
END:VEVENT
BEGIN:VEVENT
DTSTART;TZID=UTC:20251014T080000
DTEND;TZID=UTC:20251014T133000
DTSTAMP:20260420T090844
CREATED:20250923T212758Z
LAST-MODIFIED:20250923T212912Z
UID:18989-1760428800-1760448600@www.octogether.org
SUMMARY:Community Board Orientation Day 2
DESCRIPTION:Join us for our Communities That Care Community Board Orientation \nThis orientation is a 10-hour experience (spread over two days) that blends information\, hands-on activities\, and networking opportunities. It is designed for community members who want to: \n\nJoin a workgroup and play an active role in CTC\nGain a clear overview of the CTC process\nHelp prevent high-risk behaviors among youth in our community\n\nFor Community Members: If you are interested in taking an active role\, this training will give you the knowledge and connections you need to get started. \nPlease RSVP to anne.haynes@orecity.k12.or.us by October 1st \nThank you all for your leadership\, flexibility\, and commitment to building a stronger\, healthier community for our youth. We look forward to launching this next phase together.
URL:http://www.octogether.org/event/community-board-orientation-2/
LOCATION:Jennings Lodge Campus\, 18521 S.E. River Road\, Milwaukie\, OR\, 97267\, United States
END:VEVENT
BEGIN:VEVENT
DTSTART;TZID=UTC:20251016T233000
DTEND;TZID=UTC:20251016T233000
DTSTAMP:20260420T090844
CREATED:20251006T170428Z
LAST-MODIFIED:20251006T221745Z
UID:18998-1760657400-1760657400@www.octogether.org
SUMMARY:Fall/Halloween Poster Contest Deadline
DESCRIPTION:Today is the deadline for Oregon City 5th graders to submit their Fall/Halloween Drug Fact posters! More info here: https://www.octogether.org/go-big-this-halloween/
URL:http://www.octogether.org/event/fall-halloween-poster-contest-deadline/
LOCATION:Oregon
END:VEVENT
BEGIN:VEVENT
DTSTART;TZID=UTC:20251021T173000
DTEND;TZID=UTC:20251021T190000
DTSTAMP:20260420T090844
CREATED:20250909T152310Z
LAST-MODIFIED:20250923T203452Z
UID:18955-1761067800-1761073200@www.octogether.org
SUMMARY:October Monthly Meeting
DESCRIPTION:Join us for our regular monthly coalition meeting! Exciting things are happening in primary prevention and we can’t wait to share it all with you. There will be ways you can get involved\, too! \nWe meet in person at Gardiner Middle School or via google meet. \nOCT Monthly Meeting tent.\nTuesday\, October 21 · 5:30 – 7:00pm\nTime zone: America/Los_Angeles\nGoogle Meet joining info\nVideo call link: https://meet.google.com/xna-hefz-tez\nOr dial: ‪(US) +1 484-291-1790‬ PIN: ‪969 803 497‬#
URL:http://www.octogether.org/event/august-monthly-meeting-2-2/
LOCATION:Gardiner Middle School\, 205 Williams St\, Oregon City\, Oregon\, 97045
END:VEVENT
BEGIN:VEVENT
DTSTART;TZID=UTC:20251024T120000
DTEND;TZID=UTC:20251024T130000
DTSTAMP:20260420T090844
CREATED:20251006T152156Z
LAST-MODIFIED:20251006T152946Z
UID:18995-1761307200-1761310800@www.octogether.org
SUMMARY:Fentanyl & Other Drugs Workgroup
DESCRIPTION:Fentanyl & Other Drugs Workgroup \nThis is our first meeting of the year. We will discuss current drug trends in Oregon City and our schools\, analyze our results from last year\, and discuss best ways to move forward this year. \nTopic: Fentanyl & Other Drugs Workgroup\nTime: Oct 24\, 2025 12:00 PM Pacific Time (US and Canada)\nJoin Zoom Meeting\nhttps://ocsd62.zoom.us/j/83046535084 \nMeeting ID: 830 4653 5084 \n— \nOne tap mobile\n+16699006833\,\,83046535084# US (San Jose)\n+17193594580\,\,83046535084# US \nJoin instructions\nhttps://ocsd62.zoom.us/meetings/83046535084/invitations?signature=ZUzwqv8QP6pyLupJsA0DxAut6JXC6bWnpHq52jiqJP4
URL:http://www.octogether.org/event/fentanyl-other-drugs-workgroup/
LOCATION:Zoom
END:VEVENT
END:VCALENDAR