BEGIN:VCALENDAR
VERSION:2.0
PRODID:-//Oregon City Together - ECPv6.15.17.1//NONSGML v1.0//EN
CALSCALE:GREGORIAN
METHOD:PUBLISH
X-WR-CALNAME:Oregon City Together
X-ORIGINAL-URL:http://www.octogether.org
X-WR-CALDESC:Events for Oregon City Together
REFRESH-INTERVAL;VALUE=DURATION:PT1H
X-Robots-Tag:noindex
X-PUBLISHED-TTL:PT1H
BEGIN:VTIMEZONE
TZID:UTC
BEGIN:STANDARD
TZOFFSETFROM:+0000
TZOFFSETTO:+0000
TZNAME:UTC
DTSTART:20240101T000000
END:STANDARD
END:VTIMEZONE
BEGIN:VEVENT
DTSTART;TZID=UTC:20251118T173000
DTEND;TZID=UTC:20251118T190000
DTSTAMP:20260420T073359
CREATED:20251110T190906Z
LAST-MODIFIED:20251110T192211Z
UID:19035-1763487000-1763492400@www.octogether.org
SUMMARY:November Monthly Meeting
DESCRIPTION:Join us for our regular monthly meeting. This month we will be meeting virtually ONLY. \n  \nvia Google Meet: OCT Monthly Meeting\nTuesday\, November 18 · 5:30 – 7:00pm\nTime zone: America/Los_Angeles\nGoogle Meet joining info\nVideo call link: https://meet.google.com/eck-mtoq-wey\nOr dial: ‪(US) +1 513-486-2672‬ PIN: ‪259 626 647‬#
URL:http://www.octogether.org/event/november-monthly-meeting/
LOCATION:Oregon
END:VEVENT
END:VCALENDAR