BEGIN:VCALENDAR
VERSION:2.0
PRODID:-//Oregon City Together - ECPv6.15.17.1//NONSGML v1.0//EN
CALSCALE:GREGORIAN
METHOD:PUBLISH
X-WR-CALNAME:Oregon City Together
X-ORIGINAL-URL:https://www.octogether.org
X-WR-CALDESC:Events for Oregon City Together
REFRESH-INTERVAL;VALUE=DURATION:PT1H
X-Robots-Tag:noindex
X-PUBLISHED-TTL:PT1H
BEGIN:VTIMEZONE
TZID:UTC
BEGIN:STANDARD
TZOFFSETFROM:+0000
TZOFFSETTO:+0000
TZNAME:UTC
DTSTART:20240101T000000
END:STANDARD
END:VTIMEZONE
BEGIN:VEVENT
DTSTART;TZID=UTC:20250116T080000
DTEND;TZID=UTC:20250116T170000
DTSTAMP:20260419T210715
CREATED:20250107T001956Z
LAST-MODIFIED:20250107T002754Z
UID:18640-1737014400-1737046800@www.octogether.org
SUMMARY:Know Your Neuro-Vaping 2
DESCRIPTION:Click the logo to learn more about this health topic. \nTumwata Middle School-all students
URL:https://www.octogether.org/event/know-your-neuro-vaping-2-2/
CATEGORIES:Tumwata Middle School
END:VEVENT
END:VCALENDAR